BEGIN:VCALENDAR
VERSION:2.0
PRODID:-//Comité Val de Loire de Scrabble - ECPv6.2.4//NONSGML v1.0//EN
CALSCALE:GREGORIAN
METHOD:PUBLISH
X-ORIGINAL-URL:https://comitevaldeloire.com
X-WR-CALDESC:évènements pour Comité Val de Loire de Scrabble
REFRESH-INTERVAL;VALUE=DURATION:PT1H
X-Robots-Tag:noindex
X-PUBLISHED-TTL:PT1H
BEGIN:VTIMEZONE
TZID:Europe/Paris
BEGIN:DAYLIGHT
TZOFFSETFROM:+0100
TZOFFSETTO:+0200
TZNAME:CEST
DTSTART:20260329T010000
END:DAYLIGHT
BEGIN:STANDARD
TZOFFSETFROM:+0200
TZOFFSETTO:+0100
TZNAME:CET
DTSTART:20261025T010000
END:STANDARD
END:VTIMEZONE
BEGIN:VEVENT
DTSTART;TZID=Europe/Paris:20260426T100000
DTEND;TZID=Europe/Paris:20260426T190000
DTSTAMP:20260425T223053
CREATED:20260407T130540Z
LAST-MODIFIED:20260407T130540Z
UID:7378-1777197600-1777230000@comitevaldeloire.com
SUMMARY:Simultané national en semi-rapide
DESCRIPTION:
URL:https://comitevaldeloire.com/tournoi/simultane-national-en-semi-rapide/
LOCATION:Foyer des jeunes travailleurs\, 37\,rue Pierre et Marie Curie\, BLOIS\, 41000\, France
END:VEVENT
END:VCALENDAR