BEGIN:VCALENDAR
VERSION:2.0
PRODID:-//Comité Val de Loire de Scrabble - ECPv6.2.4//NONSGML v1.0//EN
CALSCALE:GREGORIAN
METHOD:PUBLISH
X-WR-CALNAME:Comité Val de Loire de Scrabble
X-ORIGINAL-URL:https://comitevaldeloire.com
X-WR-CALDESC:évènements pour Comité Val de Loire de Scrabble
REFRESH-INTERVAL;VALUE=DURATION:PT1H
X-Robots-Tag:noindex
X-PUBLISHED-TTL:PT1H
BEGIN:VTIMEZONE
TZID:Europe/Paris
BEGIN:DAYLIGHT
TZOFFSETFROM:+0100
TZOFFSETTO:+0200
TZNAME:CEST
DTSTART:20260329T010000
END:DAYLIGHT
BEGIN:STANDARD
TZOFFSETFROM:+0200
TZOFFSETTO:+0100
TZNAME:CET
DTSTART:20261025T010000
END:STANDARD
END:VTIMEZONE
BEGIN:VEVENT
DTSTART;TZID=Europe/Paris:20260425T133000
DTEND;TZID=Europe/Paris:20260425T190000
DTSTAMP:20260425T014455
CREATED:20260407T125929Z
LAST-MODIFIED:20260407T125929Z
UID:7374-1777123800-1777143600@comitevaldeloire.com
SUMMARY:TH2 catégoriel des Hirondelles
DESCRIPTION:Il est possible de jouer en open.
URL:https://comitevaldeloire.com/tournoi/th2-categoriel-des-hirondelles-3/
LOCATION:Foyer des jeunes travailleurs\, 37\,rue Pierre et Marie Curie\, BLOIS\, 41000\, France
END:VEVENT
END:VCALENDAR