BEGIN:VCALENDAR
VERSION:2.0
PRODID:-//Comité Val de Loire de Scrabble - ECPv6.2.4//NONSGML v1.0//EN
CALSCALE:GREGORIAN
METHOD:PUBLISH
X-WR-CALNAME:Comité Val de Loire de Scrabble
X-ORIGINAL-URL:https://comitevaldeloire.com
X-WR-CALDESC:évènements pour Comité Val de Loire de Scrabble
REFRESH-INTERVAL;VALUE=DURATION:PT1H
X-Robots-Tag:noindex
X-PUBLISHED-TTL:PT1H
BEGIN:VTIMEZONE
TZID:Europe/Paris
BEGIN:DAYLIGHT
TZOFFSETFROM:+0100
TZOFFSETTO:+0200
TZNAME:CEST
DTSTART:20260329T010000
END:DAYLIGHT
BEGIN:STANDARD
TZOFFSETFROM:+0200
TZOFFSETTO:+0100
TZNAME:CET
DTSTART:20261025T010000
END:STANDARD
END:VTIMEZONE
BEGIN:VEVENT
DTSTART;TZID=Europe/Paris:20260404T130000
DTEND;TZID=Europe/Paris:20260406T160000
DTSTAMP:20260425T223435
CREATED:20260317T091056Z
LAST-MODIFIED:20260317T091056Z
UID:7340-1775307600-1775491200@comitevaldeloire.com
SUMMARY:Championnat de France classique à Orléans
DESCRIPTION:Les inscriptions et le paiement du tournoi se font sur le site web de la Fédé.
URL:https://comitevaldeloire.com/tournoi/championnat-de-france-classique-a-orleans/
LOCATION:Salle Pellicer\, rue E.Branly\, Orléans\, 45000\, France
END:VEVENT
END:VCALENDAR