BEGIN:VCALENDAR
VERSION:2.0
PRODID:-//Comité Val de Loire de Scrabble - ECPv6.2.4//NONSGML v1.0//EN
CALSCALE:GREGORIAN
METHOD:PUBLISH
X-ORIGINAL-URL:https://comitevaldeloire.com
X-WR-CALDESC:évènements pour Comité Val de Loire de Scrabble
REFRESH-INTERVAL;VALUE=DURATION:PT1H
X-Robots-Tag:noindex
X-PUBLISHED-TTL:PT1H
BEGIN:VTIMEZONE
TZID:Europe/Paris
BEGIN:DAYLIGHT
TZOFFSETFROM:+0100
TZOFFSETTO:+0200
TZNAME:CEST
DTSTART:20260329T010000
END:DAYLIGHT
BEGIN:STANDARD
TZOFFSETFROM:+0200
TZOFFSETTO:+0100
TZNAME:CET
DTSTART:20261025T010000
END:STANDARD
END:VTIMEZONE
BEGIN:VEVENT
DTSTART;TZID=Europe/Paris:20260301T133000
DTEND;TZID=Europe/Paris:20260301T190000
DTSTAMP:20260426T000633
CREATED:20260212T175037Z
LAST-MODIFIED:20260213T084934Z
UID:7229-1772371800-1772391600@comitevaldeloire.com
SUMMARY:Championnat du Berry
DESCRIPTION:
URL:https://comitevaldeloire.com/tournoi/championnat-du-berry/
LOCATION:Salle polyvalente de Plaimpied-Givaudins\, rue de la Paille\, Plaimpied-Givaudins\, 18340\, France
END:VEVENT
END:VCALENDAR