BEGIN:VCALENDAR
VERSION:2.0
PRODID:-//Comité Val de Loire de Scrabble - ECPv6.2.4//NONSGML v1.0//EN
CALSCALE:GREGORIAN
METHOD:PUBLISH
X-ORIGINAL-URL:https://comitevaldeloire.com
X-WR-CALDESC:évènements pour Comité Val de Loire de Scrabble
REFRESH-INTERVAL;VALUE=DURATION:PT1H
X-Robots-Tag:noindex
X-PUBLISHED-TTL:PT1H
BEGIN:VTIMEZONE
TZID:Europe/Paris
BEGIN:DAYLIGHT
TZOFFSETFROM:+0100
TZOFFSETTO:+0200
TZNAME:CEST
DTSTART:20260329T010000
END:DAYLIGHT
BEGIN:STANDARD
TZOFFSETFROM:+0200
TZOFFSETTO:+0100
TZNAME:CET
DTSTART:20261025T010000
END:STANDARD
END:VTIMEZONE
BEGIN:VEVENT
DTSTART;TZID=Europe/Paris:20260228T133000
DTEND;TZID=Europe/Paris:20260228T190000
DTSTAMP:20260426T000556
CREATED:20260213T084901Z
LAST-MODIFIED:20260215T184241Z
UID:7233-1772285400-1772305200@comitevaldeloire.com
SUMMARY:Championnat départemental du Loir et Cher
DESCRIPTION:
URL:https://comitevaldeloire.com/tournoi/championnat-departemental-du-loir-et-cher-3/
LOCATION:Salle Jean Cros\,\, 131\,route de Chateaurenault\, Blois\, 41000\, France
END:VEVENT
END:VCALENDAR